BEGIN:VCALENDAR
VERSION:2.0
PRODID:-//Tukios.com/
BEGIN:VEVENT
UID:b032ec86-9904-4f7b-9b79-cfd3236584f0@www.stellatofuneralhomes.com
DTSTAMP:20260421T085842Z
DTSTART:20260416T143000Z
DTEND:20260416T153000Z
SUMMARY:Mass
DESCRIPTION:
URL:https://www.stellatofuneralhomes.com/obituaries/james-martin
LOCATION:Sacred Heart Church 324 Ridge Road  Lyndhurst NJ 07071
GEO:40.8077299;-74.118805
END:VEVENT
END:VCALENDAR