BEGIN:VCALENDAR
VERSION:2.0
PRODID:-//Tukios.com/
BEGIN:VEVENT
UID:42b92e8d-5eeb-4844-b29a-1617de95bb13@www.stellatofuneralhomes.com
DTSTAMP:20260422T204442Z
DTSTART:20260424T161500Z
DTEND:20260424T171500Z
SUMMARY:Burial
DESCRIPTION:
URL:https://www.stellatofuneralhomes.com/obituaries/lawrence-van-dorn
LOCATION:Hillside Cemetery 742 Rutherford Ave  Lyndhurst NJ 07071
GEO:40.8105102;-74.10858
END:VEVENT
END:VCALENDAR