BEGIN:VCALENDAR
VERSION:2.0
PRODID:-//Tukios.com/
BEGIN:VEVENT
UID:59357b67-4a64-4322-bd10-ae1215115c25@www.stellatofuneralhomes.com
DTSTAMP:20260422T204813Z
DTSTART:20260424T150000Z
DTEND:20260424T160000Z
SUMMARY:Funeral Service
DESCRIPTION:
URL:https://www.stellatofuneralhomes.com/obituaries/lawrence-van-dorn
LOCATION:United First Presbyterian Church 511 Ridge Road  Lyndhurst NJ 
	07071
GEO:40.8042248;-74.1222985
END:VEVENT
END:VCALENDAR