BEGIN:VCALENDAR
VERSION:2.0
PRODID:-//Tukios.com/
BEGIN:VEVENT
UID:a644f9fe-f4e7-4b7e-aad9-207fc5b568e3@www.stellatofuneralhomes.com
DTSTAMP:20260422T204315Z
DTSTART:20260424T130000Z
DTEND:20260424T143000Z
SUMMARY:Visitation
DESCRIPTION:
URL:https://www.stellatofuneralhomes.com/obituaries/lawrence-van-dorn
LOCATION:Ippolito-Stellato Funeral Home 425 Ridge Rd  Lyndhurst NJ 07071
GEO:40.8061673;-74.1206536
END:VEVENT
END:VCALENDAR