BEGIN:VCALENDAR
VERSION:2.0
PRODID:-//Tukios.com/
BEGIN:VEVENT
UID:b8efd701-b031-476c-9eff-9ffa91e4dff4@www.stellatofuneralhomes.com
DTSTAMP:20260421T225020Z
DTSTART:20260425T140000Z
DTEND:20260425T150000Z
SUMMARY:Burial
DESCRIPTION:
URL:https://www.stellatofuneralhomes.com/obituaries/maria-abecassis
LOCATION:Holy Cross Cemetery & Mausoleum 340 Ridge Road  North Arlington 
	NJ 07031
GEO:40.791625;-74.1301055
END:VEVENT
END:VCALENDAR