BEGIN:VCALENDAR
VERSION:2.0
PRODID:-//Tukios.com/
BEGIN:VEVENT
UID:ec535109-1d76-4fc4-96ae-dceea039c69b@www.stellatofuneralhomes.com
DTSTAMP:20260421T235440Z
DTSTART:20260424T140000Z
DTEND:20260424T150000Z
SUMMARY:Mass
DESCRIPTION:
URL:https://www.stellatofuneralhomes.com/obituaries/mary-dalessio
LOCATION:New Providence Presbyterian Church 1307 Springfield Ave  New 
	Providence NJ 07974
GEO:40.7062471;-74.4075145
END:VEVENT
END:VCALENDAR