BEGIN:VCALENDAR
VERSION:2.0
PRODID:-//Tukios.com/
BEGIN:VEVENT
UID:a537d001-b90f-4b30-b5f9-9f8bdc736b24@www.stellatofuneralhomes.com
DTSTAMP:20260421T235011Z
DTSTART:20260424T160000Z
DTEND:20260424T170000Z
SUMMARY:Burial
DESCRIPTION:
URL:https://www.stellatofuneralhomes.com/obituaries/mary-dalessio
LOCATION:Holy Cross Cemetery & Mausoleum 340 Ridge Road  North Arlington 
	NJ 07031
GEO:40.791625;-74.1301055
END:VEVENT
END:VCALENDAR