BEGIN:VCALENDAR
VERSION:2.0
PRODID:-//Tukios.com/
BEGIN:VEVENT
UID:34675948-5370-43e2-859e-0cd5be6705eb@www.stellatofuneralhomes.com
DTSTAMP:20260420T213158Z
DTSTART:20260423T154500Z
DTEND:20260423T164500Z
SUMMARY:Entombment
DESCRIPTION:
URL:https://www.stellatofuneralhomes.com/obituaries/sharon-yasner
LOCATION:Gate of Heaven Cemetery & Mausoleum 225 Ridgedale Ave  East 
	Hanover NJ 07936
GEO:40.8161957;-74.3748754
END:VEVENT
END:VCALENDAR