BEGIN:VCALENDAR
VERSION:2.0
PRODID:-//Tukios.com/
BEGIN:VEVENT
UID:c913dc9b-6508-4f77-8af8-d8ff1731d83c@www.stellatofuneralhomes.com
DTSTAMP:20260420T213115Z
DTSTART:20260423T150000Z
DTEND:20260423T160000Z
SUMMARY:Funeral Service
DESCRIPTION:
URL:https://www.stellatofuneralhomes.com/obituaries/sharon-yasner
LOCATION:Ippolito- Stellato Funeral Home 7 Two Bridges Road  Fairfield NJ 
	07004
GEO:40.8907768;-74.2744781
END:VEVENT
END:VCALENDAR