BEGIN:VCALENDAR
VERSION:2.0
PRODID:-//Tukios.com/
BEGIN:VEVENT
UID:64aed9b4-230a-44ca-9996-f5625d6081f1@www.stellatofuneralhomes.com
DTSTAMP:20260420T213212Z
DTSTART:20260422T220000Z
DTEND:20260423T000000Z
SUMMARY:Visitation
DESCRIPTION:
URL:https://www.stellatofuneralhomes.com/obituaries/sharon-yasner
LOCATION:Ippolito- Stellato Funeral Home  7 Two Bridges Road  Fairfield 
	NJ 07004
GEO:40.8907768;-74.2744781
END:VEVENT
END:VCALENDAR