BEGIN:VCALENDAR
VERSION:2.0
PRODID:-//Tukios.com/
BEGIN:VEVENT
UID:0073d3fe-908b-4789-89d3-4f802f6d3927@www.stellatofuneralhomes.com
DTSTAMP:20260420T213212Z
DTSTART:20260422T180000Z
DTEND:20260422T200000Z
SUMMARY:Visitation
DESCRIPTION:
URL:https://www.stellatofuneralhomes.com/obituaries/sharon-yasner
LOCATION:Ippolito- Stellato Funeral Home  7 Two Bridges Road  Fairfield 
	NJ 07004
GEO:40.8907768;-74.2744781
END:VEVENT
END:VCALENDAR