BEGIN:VCALENDAR
VERSION:2.0
PRODID:-//Tukios.com/
BEGIN:VEVENT
UID:9249e7a6-889f-4b0f-b1ad-35db800f5133@www.stellatofuneralhomes.com
DTSTAMP:20260421T013141Z
DTSTART:20260425T133000Z
DTEND:20260425T143000Z
SUMMARY:Funeral Service
DESCRIPTION:
URL:https://www.stellatofuneralhomes.com/obituaries/stephen-billitz
LOCATION:Ippolito- Stellato Funeral Home 7 Two Bridges Road  Fairfield NJ 
	07004
GEO:40.8907768;-74.2744781
END:VEVENT
END:VCALENDAR