BEGIN:VCALENDAR
VERSION:2.0
PRODID:-//Tukios.com/
BEGIN:VEVENT
UID:44e901bf-b533-4240-8080-f143cd9a41a4@www.stellatofuneralhomes.com
DTSTAMP:20260421T012755Z
DTSTART:20260425T150000Z
DTEND:20260425T160000Z
SUMMARY:Entombment
DESCRIPTION:
URL:https://www.stellatofuneralhomes.com/obituaries/stephen-billitz
LOCATION:Restland Memorial Park 79 Deforest Ave  East Hanover NJ 07936
GEO:40.815206;-74.3679203
END:VEVENT
END:VCALENDAR