BEGIN:VCALENDAR
VERSION:2.0
PRODID:-//Tukios.com/
BEGIN:VEVENT
UID:080cb4b6-1bcc-427a-b19b-b64aac57aeb6@www.stellatofuneralhomes.com
DTSTAMP:20260421T013008Z
DTSTART:20260424T220000Z
DTEND:20260425T000000Z
SUMMARY:Visitation
DESCRIPTION:
URL:https://www.stellatofuneralhomes.com/obituaries/stephen-billitz
LOCATION:Ippolito- Stellato Funeral Home  7 Two Bridges Road  Fairfield 
	NJ 07004
GEO:40.8907768;-74.2744781
END:VEVENT
END:VCALENDAR