BEGIN:VCALENDAR
VERSION:2.0
PRODID:-//Tukios.com/
BEGIN:VEVENT
UID:1772f689-72f9-4098-ad27-c305fb12ea54@www.stellatofuneralhomes.com
DTSTAMP:20260421T012755Z
DTSTART:20260424T180000Z
DTEND:20260424T200000Z
SUMMARY:Visitation
DESCRIPTION:
URL:https://www.stellatofuneralhomes.com/obituaries/stephen-billitz
LOCATION:Ippolito- Stellato Funeral Home  7 Two Bridges Road  Fairfield 
	NJ 07004
GEO:40.8907768;-74.2744781
END:VEVENT
END:VCALENDAR